BEGIN:VCALENDAR
VERSION:2.0
PRODID:-//Belgian Physical Society - ECPv6.12.0.1//NONSGML v1.0//EN
CALSCALE:GREGORIAN
METHOD:PUBLISH
X-ORIGINAL-URL:https://belgianphysicalsociety.be
X-WR-CALDESC:Events for Belgian Physical Society
REFRESH-INTERVAL;VALUE=DURATION:PT1H
X-Robots-Tag:noindex
X-PUBLISHED-TTL:PT1H
BEGIN:VTIMEZONE
TZID:UTC
BEGIN:STANDARD
TZOFFSETFROM:+0000
TZOFFSETTO:+0000
TZNAME:UTC
DTSTART:20250101T000000
END:STANDARD
END:VTIMEZONE
BEGIN:VTIMEZONE
TZID:Europe/Helsinki
BEGIN:DAYLIGHT
TZOFFSETFROM:+0200
TZOFFSETTO:+0300
TZNAME:EEST
DTSTART:20260329T010000
END:DAYLIGHT
BEGIN:STANDARD
TZOFFSETFROM:+0300
TZOFFSETTO:+0200
TZNAME:EET
DTSTART:20261025T010000
END:STANDARD
END:VTIMEZONE
BEGIN:VEVENT
DTSTART;TZID=UTC:20251107T100000
DTEND;TZID=UTC:20251127T210000
DTSTAMP:20260425T041536
CREATED:20251102T214057Z
LAST-MODIFIED:20251104T135743Z
UID:990000052-1762509600-1764277200@belgianphysicalsociety.be
SUMMARY:UHasselt Einsteintelescoop Roadshow
DESCRIPTION:UHasselt host tussen 7-27 november 2025 als allereerste academische instelling de Einsteintelescoop Roadshow. In dit publieksprogramma dat werd utigewerkt samen met het Einsteintelescoop projectbureau\, wensen zij het brede publiek informeren over de Einsteintelescoop – de nieuwe generatie zwaartekrachtsgolfdetector die mogelijk op het drielandenpunt België-Nederland-Duitsland zal worden gebouwd. Bezoekers zullen op onze UHasselt-campus in Diepenbeek een interactieve expo kunnen bezoeken en er zijn verschillende lezingen\, workshops en shows voorzien voor jong en oud. \nDeelname aan alle activiteiten is volledig gratis. \n\nET-woensdagen op 12\, 19 en 26 november telkens van 10h00 tot 21h00\n\nMaak een (VR-)reis door de Einsteintelescoop Expo (doorlopend open)\nVervolledig je dag met een lezing\, workshop en meer (specifieke tijdstippen)\nGeschikt voor alle leeftijden.\n\n\nET-avondprogramma op vrijdag 14 november van 18h00 to 22h00\n\nBezoek de ET expo wanneer het donker is (doorlopend)\nWoon een academische lezing bij\nGa in gesprek met onderzoekers van de Einsteintelescoop\nOntdek ons sterrenstelsel met een digitale telescoop\nVoor alle leeftijden vanaf 15 jaar.\n\n\nDag vol weETjes op zondag 23 november van 10h00 tot 17h00\n\nBezoek de Einsteintelescoop Expo tijdens de Dag van de Wetenschap\nVolg een volledige dag aan ET-lezingen en -workshops\nGa met Einstein zelf op zoek naar nog meer mooie wetenschap\nGeschikt voor alle leeftijden\n\n\n\nRegistratie en meer info via de link. \nAan UHasselt wordt op verschillende manier onderzoek gedaan naar de Einsteintelescoop\, in samenwerking met verschillende partners: \n\nFysici en kwantumwetenschappers werken mee aan diverse testprotocols\, zoals het E-TEST-project.\nEnergie-ingenieurs onderzoeken duurzame energie voor de Einsteintelescoop.\nEconomen analyseren de socio-economische impact van de Einsteintelescoop.\nRechtswetenschappers bestuderen de juridische uitdagingen van grensoverschrijdende ET-samenwerking.\nDesign-wetenschappers brengen aan de hand van participatie-onderzoek de verwachtingen van burgers in kaart.\nFysici en industriële ingenieur-onderzoekers ontwikkelden mee de technische infrastructuur voor de Einsteintelescoop.\nDatawetenschappers zijn betrokken bij diverse voorbereidende projecten rond de Einsteintelescoop.\n\n 
URL:https://belgianphysicalsociety.be/event/uhasselt-einsteintelescoop-roadshow/
LOCATION:UHasselt Campus Diepenbeek\, Agoralaan Building D\, Diepenbeek\, 3590\, Belgium
CATEGORIES:External
END:VEVENT
BEGIN:VEVENT
DTSTART;TZID=UTC:20251120T180000
DTEND;TZID=UTC:20251121T161500
DTSTAMP:20260425T041536
CREATED:20251103T114520Z
LAST-MODIFIED:20251103T114520Z
UID:990000053-1763661600-1763741700@belgianphysicalsociety.be
SUMMARY:IEEE Photonics BeNeLux Annual Symposium 2025
DESCRIPTION:The 29th edition of the annual symposium of the IEEE Photonics Benelux Chapter takes place at the Université Libre de Bruxelles in Brussels\, Belgium. On November 20th and 21th\, an exciting program will be offered to you\, focusing on the developments in the field of photonics. These developments will be approached from different angles\, ranging from the fundamentals to applications and industrialization. To offer such a program\, highly interesting invited speakers will present their work. On top of that\, the program consists of parallel sessions for submitted papers\, poster sessions and an exhibition with companies. \nWe are looking forward to welcoming you in Brussels. \nMartin Virte\, Serge Massar and Stéphane Clemmen
URL:https://belgianphysicalsociety.be/event/ieee-photonics-benelux-annual-symposium-2025/
LOCATION:ULB Salle Dupréel\, 44 avenue Jeanne\, Brussels\, 1050\, Belgium
END:VEVENT
BEGIN:VEVENT
DTSTART;TZID=UTC:20251126T190000
DTEND;TZID=UTC:20251126T223000
DTSTAMP:20260425T041536
CREATED:20251103T092039Z
LAST-MODIFIED:20251103T092249Z
UID:990000051-1764183600-1764196200@belgianphysicalsociety.be
SUMMARY:Ciné-Science Premier Contact
DESCRIPTION:How to communicate with extraterrestrials about whom we know nothing? How and why would they come to Earth? These are the central questions at the heart of the plot in the film Arrival (Fr: “Premier Contact”)\, which we invite you to watch or rewatch\, alongside our experts\, François Desset (Linguist\, ULiège) and Yaël Nazé (Astrophysicist\, ULiège)\, who will answer all your questions after the screening. The event is free\, and a drink is provided to encourage informal discussion. The screening will be in French\, at the ULiège Opera campus (3 pl. de la République Française in Liège). The film will start at 19:00\, followed by the expert debate from 21:00\, and the drink reception will run until 22:30. \nMore information and registration : Registration link
URL:https://belgianphysicalsociety.be/event/cinescience-premier-contact/
LOCATION:ULiège campus Opéra\, 3 place de la République Française\, Liège\, 4000\, Belgium
CATEGORIES:Young Minds
ORGANIZER;CN="Young Minds Li%C3%A8ge":MAILTO:youngminds.liege@gmail.com
END:VEVENT
BEGIN:VEVENT
DTSTART;TZID=UTC:20251211T160000
DTEND;TZID=UTC:20251211T180000
DTSTAMP:20260425T041536
CREATED:20251204T110418Z
LAST-MODIFIED:20251204T110638Z
UID:990000055-1765468800-1765476000@belgianphysicalsociety.be
SUMMARY:Young Minds PhD Seminar 2025
DESCRIPTION:The Young Minds of UCLouvain are happy to invite you to its December 2025 seminar. This time\, four PhD students have agreed to present and answer all your questions about their work. \n\n\nThis event offers an opportunity for undergraduate students to discover some of the research directions existing in our university. It is also an interesting event for other PhD students and experienced researchers to get a better understanding of the research that is happening within other institutes and maybe initiate some interdisciplinary project ! \nIn addition to the four talks\, a poster session will allow everyone to take part into discussions on more various research topics.
URL:https://belgianphysicalsociety.be/event/young-minds-seminar-2025/
LOCATION:CYCL 03\, Chemin du Cyclotron 2\, Ottignies-Louvain-la-Neuve\, 1348\, Belgium
CATEGORIES:Young Minds
END:VEVENT
BEGIN:VEVENT
DTSTART;TZID=UTC:20260115T193000
DTEND;TZID=UTC:20260115T210000
DTSTAMP:20260425T041536
CREATED:20251001T072932Z
LAST-MODIFIED:20251102T213254Z
UID:990000047-1768505400-1768510800@belgianphysicalsociety.be
SUMMARY:Wetenschapscafé Kempen: Einsteintelescoop
DESCRIPTION:Na het overdonderende succes van het eerste seizoen\, maakt Wetenschapscafé Kempen zich op voor negen nieuwe lezingen. Elke lezing gaat door in Tabloo\, Dessel. Deelnemen is gratis\, maar we vragen je wel om op voorhand in te schrijven. Zo weten we hoeveel stoelen we mogen klaarzetten! \n\n\nEinsteintelescoop\n\n\ndoor Wim Walk  \nDrie landen (België\, Nederland en Duitsland) hebben de handen in elkaar geslagen en zich kandidaat gesteld om de nieuwste en grootste zwaartekrachtgolfdetector te bouwen op het drielandenpunt: de Einsteintelescoop. Wim\, technologiemanager voor Nederland\, geeft meer uitleg over het project en over wat zwaartekrachtgolven zijn. \n15 januari 2026 om 19.30 uur \n\n\n\nReserveer je ticket
URL:https://belgianphysicalsociety.be/event/wetenschapscafe_einsteintelescoop/
LOCATION:Tabloo\, Gravenstraat 3\, Dessel\, 2480
CATEGORIES:External
END:VEVENT
BEGIN:VEVENT
DTSTART;TZID=UTC:20260119T180000
DTEND;TZID=UTC:20260119T200000
DTSTAMP:20260425T041536
CREATED:20260107T104137Z
LAST-MODIFIED:20260107T104215Z
UID:990000056-1768845600-1768852800@belgianphysicalsociety.be
SUMMARY:Debatavond over kernergie en de toepasssingsmogelijkheden van de kernwetenschappen
DESCRIPTION:SCK CEN – Nuclear energy towards 2050\nPanTera: A better fight for life – Een faciliteit voor productie van 225Ac op grote schaal \nOp 19 januari 2026 om 18u presenteert de Koningklijke Vlaamse Academie van België voor Kunsten en Wetenschappen (KVAB) vanuit de Reflectiegroep Energie de perspectieven die het SCK CEN\, het Belgisch nucleair onderzoekscentrum Mol voor ons land biedt op het vlak van de kernergie en de toepasssingsmogelijkehden van de kernwetenschappen. \nSCK CEN (Studiecentrum voor Kernenergie) is het Belgische nucleaire onderzoekscentrum in Mol\, een expertisecentrum dat zich bezighoudt met onderzoek\, dienstverlening en opleiding in kernenergie en ioniserende straling voor vreedzame toepassingen\, zoals veiligheid\, afvalbeheer\, medische toepassingen (kankerbestrijding)\, en de ontwikkeling van nieuwe technologieën zoals Small Modular Reactors (SMR’s). \nHet Belgische nucleaire onderzoekscentrum SCK CEN en IBA (Ion Beam Applications S.A.\, EURONEXT)\, de wereldleider in deeltjesversnellertechnologie kondigen met trots de naam van hun nieuwe joint venture aan: Pantera SA/NV. Die joint venture geeft nieuwe perspectieven\, en daarmee nieuwe hoop\, aan kankerpatiënten. \nDeze debatavond zal doorgaan in de Rubenszaal van de Academie\, Hertogsstraat 1\, Brussel \n  \nProgramma \n\n18u00: Inleiding  door Ivo Van Vaerenbergh\, Voorzitter KVAB/Reflectiegroep Energie.\n18u10: “Nuclear energy towards 2050” door Prof.Dr.Ir.Peter Baeten\, Directeur-generaal SCK CEN\n18u40: “PanTera: A better fight for life – Een faciliteit voor productie van 225Ac op grote schaal” door Dr.Ir. Sven Van den Berghe\, CEO Pantera\,\n19u10u: Interactief Panelgesprek met de sprekers en een expert\nModerator: Ivo Van Vaerenbergh\n20u00 Einde\n\n  \n\nDeelnemen is gratis\, maar registratie vooraf is verplicht.
URL:https://belgianphysicalsociety.be/event/kvab_debatavond_nucleair_2026/
LOCATION:Paleis der Academiën\, Hertogsstraat 1\, Brussel\, 1000\, Belgium
CATEGORIES:External
ORGANIZER;CN="KVAB (Koninklijke Vlaamse Academie van Belgi%C3%AB voor Wetenschappen en Kunsten":MAILTO:info@kvab.be
END:VEVENT
BEGIN:VEVENT
DTSTART;TZID=UTC:20260205T141500
DTEND;TZID=UTC:20260205T152000
DTSTAMP:20260425T041536
CREATED:20260120T122454Z
LAST-MODIFIED:20260120T122530Z
UID:990000060-1770300900-1770304800@belgianphysicalsociety.be
SUMMARY:UAntwerpen Spectrumlezing: Blik op oneindig met de Einstein Telescoop
DESCRIPTION:Blik op oneindig met de Einstein Telescoop \nUAntwerpen Spectrumlezing door Nick Van Remortel (UAntwerpen | fysica | elementaire deeltjes) \nMogelijkheid tot bezoek aan de expo \nUniversiteit Antwerpen | Campus Groenenborger \nGeen voorkennis nodig \nGratis \nInschrijven verplicht | enkel via de website | vanaf 19/1
URL:https://belgianphysicalsociety.be/event/uantwerpen-spectrumlezing/
LOCATION:UAntwerp\, Antwerpen\, 2000\, Belgium
CATEGORIES:External
END:VEVENT
BEGIN:VEVENT
DTSTART;TZID=UTC:20260211T183000
DTEND;TZID=UTC:20260211T203000
DTSTAMP:20260425T041536
CREATED:20260119T092148Z
LAST-MODIFIED:20260119T092148Z
UID:990000057-1770834600-1770841800@belgianphysicalsociety.be
SUMMARY:STEM HER way : parcours\, défis et avancées
DESCRIPTION:À l’occasion de la journée internationale des femmes et filles de science\, célébrée chaque année le 11 février\, la cellule Gender Polyt-Equity de l’École polytechnique de Bruxelles (EPB) organise une conférence sur le campus du Solbosch (ULB). L’événement mettra à l’honneur 3 oratrices scientifiques. \n[Auditoire S.UB4.132 : Campus du Solbosch]
URL:https://belgianphysicalsociety.be/event/stem-her-way-parcours-defis-et-avancees/
LOCATION:ULB Campus Solbosch\, Avenue Franklin D. Roosevelt 50\, Bruxelles\, Belgium
END:VEVENT
BEGIN:VEVENT
DTSTART;TZID=UTC:20260212T090000
DTEND;TZID=UTC:20260212T170000
DTSTAMP:20260425T041536
CREATED:20260119T092443Z
LAST-MODIFIED:20260119T092443Z
UID:990000058-1770886800-1770915600@belgianphysicalsociety.be
SUMMARY:Women and Girls in Science @ University of Namur
DESCRIPTION:The International Day of Women and Girls in Science takes place every 11th of February\, following the declaration by the General Assembly of the United Nations on 22nd of December 2015. \nThis annual event aims at promoting the access of women and girls to science and technology as well as their full and fair participation. It reminds the important role of women in the scientific community and constitutes a great opportunity to encourage girls and young women to participate in the scientific developments. \n12 February 2026 | 6th edition\nOur 2026 keynote speakers are\n Pr. Roosmarijn Vandenbroucke (University of Gent) and Pr. Nelly Litvak (Eindhoven University of Technology)\nAt 16:30 – Join our panel session for Women and Girls in Science!\nThe pannel session will feature former committee members: sharing experiences\, insights\, and perspectives on advancing women’s roles in science\nShow your support in fostering equal opportunities to ALL genders in science and technology!
URL:https://belgianphysicalsociety.be/event/women-and-girls-in-science-university-of-namur/
LOCATION:University of Namur\, Rosalin Franklin Auditorium\, rue Grafé 2\, Namur\, 5000\, Belgium
END:VEVENT
BEGIN:VEVENT
DTSTART;TZID=UTC:20260224T183000
DTEND;TZID=UTC:20260224T213000
DTSTAMP:20260425T041536
CREATED:20260216T110140Z
LAST-MODIFIED:20260216T110140Z
UID:990000062-1771957800-1771968600@belgianphysicalsociety.be
SUMMARY:Young Minds Discussion Table 2026
DESCRIPTION:Are you wondering what research in physics is really like? What does a PhD student’s life look like? Which master’s specialization should you choose?  \nCome and chat with PhD students from UCLouvain around six thematic tables: \n\nMathematical Physics\nClimatology\nParticle Physics (theoretical & experimental)\nAtomic & Optical Physics\nGravitational Waves & Instrumentation\n\nThe concept? You spend 20 minutes at each table to learn more about the topics that interest you\, and to ask your questions about PhD life (conferences abroad\, teaching\, daily routine\, challenges of the PhD\, etc.)\, then you go to the next table. \nWhen? Tuesday\, February 24\, 6:30–9:30 p.m.\nWhere? Cyclotron 02 & 03 \nNo registration is required\, and free snacks and drinks will be provided \nWhether you are an undergraduate (especially third-year students with the choice of a master’s coming up) or a master’s student\, this is the perfect time to demystify research and find out which topic might suit you. \nWe’re looking forward to seeing you there!
URL:https://belgianphysicalsociety.be/event/young-minds-discussion-tables-2026/
LOCATION:CYCL 03\, Chemin du Cyclotron 2\, Ottignies-Louvain-la-Neuve\, 1348\, Belgium
CATEGORIES:Young Minds
END:VEVENT
BEGIN:VEVENT
DTSTART;TZID=UTC:20260226T140000
DTEND;TZID=UTC:20260226T170000
DTSTAMP:20260425T041536
CREATED:20260119T092838Z
LAST-MODIFIED:20260119T092937Z
UID:990000059-1772114400-1772125200@belgianphysicalsociety.be
SUMMARY:Nuclear job fair
DESCRIPTION:A Nuclear Job Fair will be organised at UHasselt on February 26\, 2026\, and aims at introducing science and engineering students to available advanced education and training in nuclear themes\, PhD and post-doc opportunities and to available jobs in nuclear industry\, healthcare\, governmental organizations and research centres.
URL:https://belgianphysicalsociety.be/event/nuclear-job-fair-2026/
LOCATION:UHasselt Campus Diepenbeek\, Agoralaan Building D\, Diepenbeek\, 3590\, Belgium
CATEGORIES:External,Young Minds
ATTACH;FMTTYPE=image/png:https://belgianphysicalsociety.be/wp-content/uploads/2026/01/NuclearJobFair2026.png
END:VEVENT
BEGIN:VEVENT
DTSTART;TZID=UTC:20260321T093000
DTEND;TZID=UTC:20260321T183000
DTSTAMP:20260425T041536
CREATED:20251016T115055Z
LAST-MODIFIED:20251016T115204Z
UID:990000049-1774085400-1774117800@belgianphysicalsociety.be
SUMMARY:BNCPAP Colloquium: 100 years of Quantum Mechanics
DESCRIPTION:The BNCPAP 2026 Colloquium on  \n                                               100 Years of Quantum Mechanics\, \nwill be organised by the Belgian National Committee for Pure and Applied Physics (https://sites.google.com/view/bncpap/) on March 21\, 2026 at the Royal Academies for Science and the Arts of Belgium.  \nFor further information\, please visit https://sites.google.com/view/bncpap/colloquia/colloquium-2026.
URL:https://belgianphysicalsociety.be/event/bncpap-colloquium-100-years-of-quantum-mechanics/
LOCATION:Academie Royal\, Hertogstraat 1\, Brussels\, 1000\, Belgium
CATEGORIES:External
END:VEVENT
BEGIN:VEVENT
DTSTART;TZID=UTC:20260409T190000
DTEND;TZID=UTC:20260409T210000
DTSTAMP:20260425T041536
CREATED:20260402T125838Z
LAST-MODIFIED:20260402T125950Z
UID:990000066-1775761200-1775768400@belgianphysicalsociety.be
SUMMARY:Conference on gravitational waves at UCLouvain
DESCRIPTION:This conference will be conducted in French.
URL:https://belgianphysicalsociety.be/event/conference-journey-into-gravitational-waves-at-uclouvain/
LOCATION:Auditoire Sciences A.02\, Louvain-la-Neuve\, Place des Sciences 2 L6.06.01\, Ottignies-Louvain-la-Neuve\, 1348\, Belgium
CATEGORIES:Young Minds
END:VEVENT
BEGIN:VEVENT
DTSTART;VALUE=DATE:20260413
DTEND;VALUE=DATE:20260415
DTSTAMP:20260425T041536
CREATED:20260209T154247Z
LAST-MODIFIED:20260209T154247Z
UID:990000061-1776038400-1776211199@belgianphysicalsociety.be
SUMMARY:The Contribution of Physics to Energy Production\, Storage & Distribution
DESCRIPTION:This conference explores how advances in physics are shaping the future of energy systems. Organized by the European Physical Society (EPS)\, it brings together experts from academia\, industry\, and public policy to examine the scientific\, technological\, and societal dimensions of the energy transition. \nThrough keynote lectures and moderated panel discussions\, participants will address recent scientific breakthroughs\, pathways for technological deployment\, and the policy frameworks required to enable a secure\, efficient\, and sustainable energy system. \nThe programme covers a broad range of topics\, including wind and solar energy\, energy storage\, critical raw materials\, nuclear energy\, and other emerging technologies relevant to energy production and distribution. \nhttps://indico.cern.ch/event/1611722/
URL:https://belgianphysicalsociety.be/event/the-contribution-of-physics-to-energy-production-storage-distribution/
LOCATION:Paleis der Academiën\, Hertogsstraat 1\, Brussel\, 1000\, Belgium
END:VEVENT
BEGIN:VEVENT
DTSTART;TZID=UTC:20260423T180000
DTEND;TZID=UTC:20260423T213000
DTSTAMP:20260425T041536
CREATED:20260316T155258Z
LAST-MODIFIED:20260409T140716Z
UID:990000064-1776967200-1776979800@belgianphysicalsociety.be
SUMMARY:Physics alumni evening 2026 @ UAntwerpen
DESCRIPTION:On the 23rd of April\, the Antwerp Young Minds will be organising another alumni evening on campus Groenenborger. We will stick to the same concept where we invite a few alumni to give a presentation on their careers after university\, followed by a Q&A round. We will conclude the evening with a reception so that you can network some more or catch up with each other. Feel free to forward this invitation to other alumni. Details can be found below. \nInvited speakers:\n– Wim Tirry: technology leader @ Atlas Copco\n– Maja Verstraeten: plasma physics researcher @ Royal Military Academy\n– Roeland Juchtmans: civil servant department WEWIS @ Flemish government\n– Nancy Vermeulen: strategic advisor & program leader \nIf you wish to participate\, please register through this form. \nDetails\nThursday 23/04\nCampus Groenenborger\, G.T.105\n(Groenenborgerlaan 171\, 2020 Antwerpen)\nPlanning\n– 18:30 — Welcome drink\n– 19:00 — Presentations\n– 20:30 — Reception \nHope to see you there! \nWith kind regards\,\nThe Antwerp Young Minds \nContact: youngminds@uantwerpen.be
URL:https://belgianphysicalsociety.be/event/physics-alumni-evening-uantwerpen-2026/
LOCATION:UAntwerpen\, Campus Groenenborger\, room G.T.105\, Groenenborgerlaan 171\, Antwerpen\, Antwerpen\, 2020\, Belgium
CATEGORIES:Young Minds
ORGANIZER;CN="Antwerp Young Minds":MAILTO:youngminds@uantwerpen.be
END:VEVENT
BEGIN:VEVENT
DTSTART;TZID=UTC:20260423T193000
DTEND;TZID=UTC:20260423T210000
DTSTAMP:20260425T041536
CREATED:20251001T073046Z
LAST-MODIFIED:20251102T213246Z
UID:990000048-1776972600-1776978000@belgianphysicalsociety.be
SUMMARY:Wetenschapscafé Kempen: De oerknal en Georges Lemaître
DESCRIPTION:Na het overdonderende succes van het eerste seizoen\, maakt Wetenschapscafé Kempen zich op voor negen nieuwe lezingen. Elke lezing gaat door in Tabloo\, Dessel. Deelnemen is gratis\, maar we vragen je wel om op voorhand in te schrijven. Zo weten we hoeveel stoelen we mogen klaarzetten! \n\n\n\nDe oerknal en Georges Lemaître\n\n\ndoor Jef Ongena \nHoe ontstond het heelal? De oerknal biedt een verklaring gebaseerd op de relativiteitstheorie. Tijdens deze voordracht wordt het leven en werk van de Leuvense hoogleraar en priester Georges Lemaître belicht\, de man die algemeen beschouwd wordt als de grondlegger van de oerknal. Daarnaast geeft de spreker ook een overzicht van de  recente (en fascinerende) ontdekkingen in het heelal die de theorie van de oerknal  bevestigen. \n23 april 2026 om 19.30 uur \n\n\n\nReserveer je ticket
URL:https://belgianphysicalsociety.be/event/wetenschapscafe-oerknal/
LOCATION:Tabloo\, Gravenstraat 3\, Dessel\, 2480
CATEGORIES:External
END:VEVENT
BEGIN:VEVENT
DTSTART;VALUE=DATE:20260428
DTEND;VALUE=DATE:20260429
DTSTAMP:20260425T041536
CREATED:20260415T125514Z
LAST-MODIFIED:20260415T125514Z
UID:990000067-1777334400-1777420799@belgianphysicalsociety.be
SUMMARY:Belgian Fusion Day
DESCRIPTION:Curious how fusion can power tomorrow? \nDiscover Belgium’s role in the path to fusion energy! \nOpen to students\, educators\, researchers and innovators \nThe Belgian Fusion Day is a joint event organised by the fusion research laboratories at the Royal Military Academy\, the Belgian Nuclear Research Centre SCK-CEN\, Universiteit Gent\, KU Leuven\, Université libre de Bruxelles and Université Catholique de Louvain. It aims to showcase to a broad audience the current state of Fusion Energy development and the involvement of Belgium in the pursuit of this abundant and carbon-free energy source of the future. \nIn this 4th edition of the event\, we focus in particular on the landscape of private fusion companies\, and the role Belgium’s high-tech industry can play in the development of future fusion power plants. The program includes: \n\nInvited speakers from ITER – the world’s largest fusion experiment – and private fusion companies\nOverview of expertise of the Belgian fusion labs\nViews on how Belgium’s high-tech industry can contribute to the development of fusion power plants\nNetworking lunch and reception\n\nWe make the link with fusion-relevant technologies\, including: \n\nAdvanced cooling solutions\nAdvanced computing and digital twins\nGenerative design\nData science\, machine learning\, AI\nAntenna design\nAdditive manufacturing\nThermomechanical analysis and structural integrity assessment\nPlasma Diagnostics & Control\nHeat- & neutron-resistant materials\nVacuum technology and cryogenics\nRemote handling
URL:https://belgianphysicalsociety.be/event/belgian-fusion-day/
LOCATION:Convent of Chièvres\, Groot Begijnhof 39 3000 Leuven\, Groot Begijnhof 39\, Leuven\, 3000\, Belgium
END:VEVENT
BEGIN:VEVENT
DTSTART;TZID=UTC:20260513T160000
DTEND;TZID=UTC:20260513T180000
DTSTAMP:20260425T041536
CREATED:20260316T160642Z
LAST-MODIFIED:20260420T124217Z
UID:990000065-1778688000-1778695200@belgianphysicalsociety.be
SUMMARY:Departmental colloquium on weather and climate modeling by  Prof. Steven Caluwaerts (UGent/KMI)
DESCRIPTION:Professor Steven Caluwaerts will give a talk on weather and climate modeling. \nThe miracle of atmospheric modelling: past\, present and future\n \nSince the mid‑20th century\, numerical weather forecasts have been produced\, and today we take their remarkable accuracy for granted. More recently\, climate projections have entered the public sphere\, playing a crucial role in guiding adaptation and mitigation policies. But what science underpins these atmospheric models\, and why do they work so well?\n\nIn this talk\, Prof. Steven Caluwaerts (Royal Meteorological Institute of Belgium – Ghent University) will explore the past\, present\, and future of weather and climate modelling. He will also highlight several ongoing research projects at Belgian research institutions that are advancing our understanding of the atmosphere and its role in a changing climate.\nHybrid meeting can be arranged if enough external interest (let us know on our mail below). \nDetails\nThursday 13/05\nCampus Groenenborger\, G.US.024\n(Groenenborgerlaan 171\, 2020 Antwerpen)\nPlanning:\n– 16:15h start of talk\n– 17h reception \nHope to see you there! \nWith kind regards\,\nThe Antwerp Young Minds \nContact: youngminds@uantwerpen.be
URL:https://belgianphysicalsociety.be/event/departmental-colloquium-climate-aym/
LOCATION:UAntwerpen\, Campus Groenenborger\, room G.US.024\, Groenenborgerlaan 171\, Antwerpen\, Antwerpen\, 2020\, Belgium
CATEGORIES:Young Minds
ORGANIZER;CN="Antwerp Young Minds":MAILTO:youngminds@uantwerpen.be
END:VEVENT
BEGIN:VEVENT
DTSTART;TZID=Europe/Helsinki:20260527T083000
DTEND;TZID=Europe/Helsinki:20260527T183000
DTSTAMP:20260425T041536
CREATED:20251112T130547Z
LAST-MODIFIED:20260303T130749Z
UID:990000054-1779870600-1779906600@belgianphysicalsociety.be
SUMMARY:Belgian Physical Society general scientific meeting 2026
DESCRIPTION:Registration and payment\nRegistration is possible via the blue button below by filling in the registration form. The payment must be made in full unless specifically stated. The registration is only considered complete when the payment has been received. Registration fees are exempt from VAT. \n\n\n\nProfile – fee\nEarly bird\nLate registration\n\n\nBPS member\n€ 70\n€ 100\n\n\nBPS member (student)\n€ 50\n€ 80\n\n\nNon-member\n€ 100\n€ 130\n\n\nNon-member (student)\n€ 80\n€ 110\n\n\nSchool teacher\nFree\nFree\n\n\nSponsor\nFree\nFree\n\n\nInvited speaker\nFree\nFree\n\n\n\nProof of student/doctoral status will be requested from participants who pay student fees. \nParticipants who require an invoice\, please send the completed customer information form to ns.adminiksqsp@kuleuven.be and follow the payment instructions on the invoice that will be sent to you upon receipt of the form. \nParticipants who don’t need an invoice\, can make the payment online (preferred option; make sure the name of the participant is mentioned in the description) or by bank transfer (only a proof of payment can be issued upon request). \nKU Leuven\, Oude Markt 13\, B-3000 LEUVENAccount:  IBAN: BE60 7340 0666 0370 (BIC: KREDBEBB)Message: 400/0028/56283 + name participant \n  \nRegistration Confirmation\nA confirmation of registration will be sent to the participant immediately\, including a request for payment and bank coordinates to perform it.If the email confirmation has not been received within 24 hours after registration\, please contact the BPS at info@belgianphysicalsociety.be.The registration is only considered complete when payment has been received. \nFor more info on the conference: conference page.
URL:https://belgianphysicalsociety.be/event/belgian-physical-society-general-scientific-meeting-2026/
LOCATION:Quadrivium\, Celestijnenlaan 200\, Heverlee\, 3001\, Belgium
CATEGORIES:BPS,Conference
END:VEVENT
END:VCALENDAR