BEGIN:VCALENDAR
VERSION:2.0
PRODID:-//Belgian Physical Society - ECPv6.12.0.1//NONSGML v1.0//EN
CALSCALE:GREGORIAN
METHOD:PUBLISH
X-WR-CALNAME:Belgian Physical Society
X-ORIGINAL-URL:https://belgianphysicalsociety.be
X-WR-CALDESC:Events for Belgian Physical Society
REFRESH-INTERVAL;VALUE=DURATION:PT1H
X-Robots-Tag:noindex
X-PUBLISHED-TTL:PT1H
BEGIN:VTIMEZONE
TZID:UTC
BEGIN:STANDARD
TZOFFSETFROM:+0000
TZOFFSETTO:+0000
TZNAME:UTC
DTSTART:20210101T000000
END:STANDARD
END:VTIMEZONE
BEGIN:VEVENT
DTSTART;TZID=UTC:20211027T160000
DTEND;TZID=UTC:20211027T173000
DTSTAMP:20260420T000132
CREATED:20241017T194804Z
LAST-MODIFIED:20241017T194804Z
UID:990000023-1635350400-1635355800@belgianphysicalsociety.be
SUMMARY:BPS webinar Nuclear Fusion Research
DESCRIPTION:Interial fusion research: physics\, status and latest results \nDr. Vladimir Tikhonchuk\, Centre Lasers Intenses et Applications\, Université de Bordeaux\, France
URL:https://belgianphysicalsociety.be/event/bps-webinar-nuclear-fusion-research-5/
LOCATION:Online
CATEGORIES:BPS,Webinar
END:VEVENT
BEGIN:VEVENT
DTSTART;TZID=UTC:20211020T180000
DTEND;TZID=UTC:20211020T193000
DTSTAMP:20260420T000132
CREATED:20241017T194636Z
LAST-MODIFIED:20241017T194636Z
UID:990000022-1634752800-1634758200@belgianphysicalsociety.be
SUMMARY:BPS webinar Nuclear Fusion Research
DESCRIPTION:Materials research for fusion: availibility of fusion relevant neutron sources \nDr. Juan Knaster\, Deputy Head of ITER Programme Department\, F4E at ITER Organisation\, Cadarache\, France
URL:https://belgianphysicalsociety.be/event/bps-webinar-nuclear-fusion-research-4/
LOCATION:Online
CATEGORIES:BPS,Webinar
END:VEVENT
BEGIN:VEVENT
DTSTART;TZID=UTC:20211013T160000
DTEND;TZID=UTC:20211013T173000
DTSTAMP:20260420T000132
CREATED:20241017T194425Z
LAST-MODIFIED:20241017T194448Z
UID:990000021-1634140800-1634146200@belgianphysicalsociety.be
SUMMARY:BPS webinar Nuclear Fusion Research
DESCRIPTION:The long way to steady-state fusion plasmas\nThe superconducting stallator experiment Wendelstein 7-X \nDr. Thomas Klinger\, Director of the Division Stellator Dynamics and Transport\, Director of the Project Wendelstein 7-X\, Institute for Plasma Physics\, Greifswald\, Germany \nLink to the recorded video available on demand (BPS members only).
URL:https://belgianphysicalsociety.be/event/bps-webinar-nuclear-fusion-research-3/
LOCATION:Online
CATEGORIES:BPS,Webinar
END:VEVENT
BEGIN:VEVENT
DTSTART;TZID=UTC:20211005T160000
DTEND;TZID=UTC:20211005T173000
DTSTAMP:20260420T000132
CREATED:20241017T194042Z
LAST-MODIFIED:20241017T194042Z
UID:990000020-1633449600-1633455000@belgianphysicalsociety.be
SUMMARY:BPS webinar Nuclear Fusion Research
DESCRIPTION:Objectives and status on the ITER project\, the first fusion reactor under construction \nDr. Alberto Loarte\, Head of the ITER Science Division\, Science\, Controls and Operation Department\, ITER Organisation\, Cadarache\, France
URL:https://belgianphysicalsociety.be/event/bps-webinar-nuclear-fusion-research-2/
LOCATION:Online
CATEGORIES:BPS,Webinar
END:VEVENT
BEGIN:VEVENT
DTSTART;TZID=UTC:20210929T160000
DTEND;TZID=UTC:20210929T173000
DTSTAMP:20260420T000132
CREATED:20241017T193736Z
LAST-MODIFIED:20241017T193736Z
UID:990000019-1632931200-1632936600@belgianphysicalsociety.be
SUMMARY:BPS webinar Nuclear Fusion Research
DESCRIPTION:Introduction to Nuclear Fusion Research \nDr. Julien Hillairet\, Directeur de Recherches\, Institut de Recherche sur la Fusion Magnetiqe\, CEA Cadarache\, France
URL:https://belgianphysicalsociety.be/event/bps-webinar-nuclear-fusion-research/
LOCATION:Online
CATEGORIES:BPS,Webinar
END:VEVENT
END:VCALENDAR