BEGIN:VCALENDAR
VERSION:2.0
PRODID:-//Belgian Physical Society - ECPv6.12.0.1//NONSGML v1.0//EN
CALSCALE:GREGORIAN
METHOD:PUBLISH
X-WR-CALNAME:Belgian Physical Society
X-ORIGINAL-URL:https://belgianphysicalsociety.be
X-WR-CALDESC:Events for Belgian Physical Society
REFRESH-INTERVAL;VALUE=DURATION:PT1H
X-Robots-Tag:noindex
X-PUBLISHED-TTL:PT1H
BEGIN:VTIMEZONE
TZID:UTC
BEGIN:STANDARD
TZOFFSETFROM:+0000
TZOFFSETTO:+0000
TZNAME:UTC
DTSTART:20250101T000000
END:STANDARD
END:VTIMEZONE
BEGIN:VEVENT
DTSTART;TZID=UTC:20251107T100000
DTEND;TZID=UTC:20251127T210000
DTSTAMP:20260425T000647
CREATED:20251102T214057Z
LAST-MODIFIED:20251104T135743Z
UID:990000052-1762509600-1764277200@belgianphysicalsociety.be
SUMMARY:UHasselt Einsteintelescoop Roadshow
DESCRIPTION:UHasselt host tussen 7-27 november 2025 als allereerste academische instelling de Einsteintelescoop Roadshow. In dit publieksprogramma dat werd utigewerkt samen met het Einsteintelescoop projectbureau\, wensen zij het brede publiek informeren over de Einsteintelescoop – de nieuwe generatie zwaartekrachtsgolfdetector die mogelijk op het drielandenpunt België-Nederland-Duitsland zal worden gebouwd. Bezoekers zullen op onze UHasselt-campus in Diepenbeek een interactieve expo kunnen bezoeken en er zijn verschillende lezingen\, workshops en shows voorzien voor jong en oud. \nDeelname aan alle activiteiten is volledig gratis. \n\nET-woensdagen op 12\, 19 en 26 november telkens van 10h00 tot 21h00\n\nMaak een (VR-)reis door de Einsteintelescoop Expo (doorlopend open)\nVervolledig je dag met een lezing\, workshop en meer (specifieke tijdstippen)\nGeschikt voor alle leeftijden.\n\n\nET-avondprogramma op vrijdag 14 november van 18h00 to 22h00\n\nBezoek de ET expo wanneer het donker is (doorlopend)\nWoon een academische lezing bij\nGa in gesprek met onderzoekers van de Einsteintelescoop\nOntdek ons sterrenstelsel met een digitale telescoop\nVoor alle leeftijden vanaf 15 jaar.\n\n\nDag vol weETjes op zondag 23 november van 10h00 tot 17h00\n\nBezoek de Einsteintelescoop Expo tijdens de Dag van de Wetenschap\nVolg een volledige dag aan ET-lezingen en -workshops\nGa met Einstein zelf op zoek naar nog meer mooie wetenschap\nGeschikt voor alle leeftijden\n\n\n\nRegistratie en meer info via de link. \nAan UHasselt wordt op verschillende manier onderzoek gedaan naar de Einsteintelescoop\, in samenwerking met verschillende partners: \n\nFysici en kwantumwetenschappers werken mee aan diverse testprotocols\, zoals het E-TEST-project.\nEnergie-ingenieurs onderzoeken duurzame energie voor de Einsteintelescoop.\nEconomen analyseren de socio-economische impact van de Einsteintelescoop.\nRechtswetenschappers bestuderen de juridische uitdagingen van grensoverschrijdende ET-samenwerking.\nDesign-wetenschappers brengen aan de hand van participatie-onderzoek de verwachtingen van burgers in kaart.\nFysici en industriële ingenieur-onderzoekers ontwikkelden mee de technische infrastructuur voor de Einsteintelescoop.\nDatawetenschappers zijn betrokken bij diverse voorbereidende projecten rond de Einsteintelescoop.\n\n 
URL:https://belgianphysicalsociety.be/event/uhasselt-einsteintelescoop-roadshow/
LOCATION:UHasselt Campus Diepenbeek\, Agoralaan Building D\, Diepenbeek\, 3590\, Belgium
CATEGORIES:External
END:VEVENT
END:VCALENDAR