BEGIN:VCALENDAR
VERSION:2.0
PRODID:-//Belgian Physical Society - ECPv6.12.0.1//NONSGML v1.0//EN
CALSCALE:GREGORIAN
METHOD:PUBLISH
X-WR-CALNAME:Belgian Physical Society
X-ORIGINAL-URL:https://belgianphysicalsociety.be
X-WR-CALDESC:Events for Belgian Physical Society
REFRESH-INTERVAL;VALUE=DURATION:PT1H
X-Robots-Tag:noindex
X-PUBLISHED-TTL:PT1H
BEGIN:VTIMEZONE
TZID:UTC
BEGIN:STANDARD
TZOFFSETFROM:+0000
TZOFFSETTO:+0000
TZNAME:UTC
DTSTART:20250101T000000
END:STANDARD
END:VTIMEZONE
BEGIN:VEVENT
DTSTART;TZID=UTC:20251023T183000
DTEND;TZID=UTC:20251023T210000
DTSTAMP:20260424T202500
CREATED:20251020T103029Z
LAST-MODIFIED:20251021T143228Z
UID:987513093-1761244200-1761253200@belgianphysicalsociety.be
SUMMARY:Young Minds Physics Quiz 2025
DESCRIPTION:Welcome to our Quiz Night event tailored for researchers. Get ready for an evening of fun\, camaraderie\, and intellectual challenge as we test your knowledge across various topics! \n\n\nJoin us for an exciting Quiz Night specially designed to engage researchers in a friendly and competitive atmosphere. This event offers an opportunity to unwind\, socialize with fellow researchers\, and showcase your knowledge across a range of topics. Whether you’re a seasoned quizzer or just looking to have some fun\, everyone is welcome to participate!
URL:https://belgianphysicalsociety.be/event/young-minds-physics-quiz-2025/
LOCATION:Auditoire Sciences A.04\, Louvain-la-Neuve\, Place des Sciences 2 L6.06.01\, 1348 Ottignies-Louvain-la-Neuve\, Louvain-la-Neuve\, Belgium
CATEGORIES:Young Minds
END:VEVENT
END:VCALENDAR