BEGIN:VCALENDAR
VERSION:2.0
PRODID:-//Belgian Physical Society - ECPv6.12.0.1//NONSGML v1.0//EN
CALSCALE:GREGORIAN
METHOD:PUBLISH
X-WR-CALNAME:Belgian Physical Society
X-ORIGINAL-URL:https://belgianphysicalsociety.be
X-WR-CALDESC:Events for Belgian Physical Society
REFRESH-INTERVAL;VALUE=DURATION:PT1H
X-Robots-Tag:noindex
X-PUBLISHED-TTL:PT1H
BEGIN:VTIMEZONE
TZID:UTC
BEGIN:STANDARD
TZOFFSETFROM:+0000
TZOFFSETTO:+0000
TZNAME:UTC
DTSTART:20240101T000000
END:STANDARD
END:VTIMEZONE
BEGIN:VEVENT
DTSTART;TZID=UTC:20241004T170000
DTEND;TZID=UTC:20241004T233000
DTSTAMP:20260425T030525
CREATED:20240902T142810Z
LAST-MODIFIED:20240905T174042Z
UID:987511182-1728061200-1728084600@belgianphysicalsociety.be
SUMMARY:UMons Night in the museum
DESCRIPTION:During the evening\, cosmologists from UMONS will take the stage to deliver a performance like no other\, one you won’t find anywhere else but at MUMONS! \nGet ready… They will carry out spectacular calculations right before your eyes—both incomprehensible and impressive—with nothing but a large blackboard and Japanese chalk (seriously\, they say it glides better!)\, turning the classroom into a real theoretical physics laboratory! \nThe blackboard (with its miles-long calculation) will then become a new piece for our exhibition… an abstract approach to studying the Universe! \nWe’ll show you these calculations that allow researchers to explore invisible black holes and other mysteries of space-time.
URL:https://belgianphysicalsociety.be/event/umons_night/
LOCATION:MUMONS\, Place du parc 24\, Mons\, 7000\, Belgium
CATEGORIES:Conference,External
ATTACH;FMTTYPE=image/jpeg:https://belgianphysicalsociety.be/wp-content/uploads/2024/09/2024_07_11-NDM-1200x400px-BANNER-SITE-VILLE-1024x341-1.jpg
END:VEVENT
END:VCALENDAR