BEGIN:VCALENDAR
VERSION:2.0
PRODID:-//Belgian Physical Society - ECPv6.12.0.1//NONSGML v1.0//EN
CALSCALE:GREGORIAN
METHOD:PUBLISH
X-WR-CALNAME:Belgian Physical Society
X-ORIGINAL-URL:https://belgianphysicalsociety.be
X-WR-CALDESC:Events for Belgian Physical Society
REFRESH-INTERVAL;VALUE=DURATION:PT1H
X-Robots-Tag:noindex
X-PUBLISHED-TTL:PT1H
BEGIN:VTIMEZONE
TZID:UTC
BEGIN:STANDARD
TZOFFSETFROM:+0000
TZOFFSETTO:+0000
TZNAME:UTC
DTSTART:20250101T000000
END:STANDARD
END:VTIMEZONE
BEGIN:VEVENT
DTSTART;TZID=UTC:20250605T193000
DTEND;TZID=UTC:20250605T210000
DTSTAMP:20260424T224224
CREATED:20250507T094044Z
LAST-MODIFIED:20250507T094044Z
UID:987512763-1749151800-1749157200@belgianphysicalsociety.be
SUMMARY:UHasselt Materiomics expert lectures on innovative materials design: Energy
DESCRIPTION:The Master of Materiomics presents:\n5 expert lectures on innovative materials design\nEnergy\nCarrier-resolved Photo Hall Effect \nby Prof. dr. Byungha Shin (Department of Materials Science and Engineering\, Korea Advanced Institute of Science and Technology) Time: 19h30-21h (CEST). Online or on campus in auditorium H3. \nOrganised in collaboration with the MRS/E-MRS joint chapter of Hasselt University \nAll lectures can be followed online. \nLocation of the lectures: \nHasselt University\, Campus Diepenbeek\, Agoralaan Building D\, 3590 Diepenbeek\, Belgium. Participation is free\, but registration is mandatory via https://forms.gle/VxGQnURjkE7d5xvf8 \nParticipants receive a certificate of attendance. For more information\, please contact materiomics@uhasselt.be \nFlyer Materialize the future 2025
URL:https://belgianphysicalsociety.be/event/uhasselt-materiomics-energy/
LOCATION:UHasselt Campus Diepenbeek\, Agoralaan Building D\, Diepenbeek\, 3590\, Belgium
CATEGORIES:External
END:VEVENT
END:VCALENDAR