BEGIN:VCALENDAR
VERSION:2.0
PRODID:-//Belgian Physical Society - ECPv6.12.0.1//NONSGML v1.0//EN
CALSCALE:GREGORIAN
METHOD:PUBLISH
X-WR-CALNAME:Belgian Physical Society
X-ORIGINAL-URL:https://belgianphysicalsociety.be
X-WR-CALDESC:Events for Belgian Physical Society
REFRESH-INTERVAL;VALUE=DURATION:PT1H
X-Robots-Tag:noindex
X-PUBLISHED-TTL:PT1H
BEGIN:VTIMEZONE
TZID:UTC
BEGIN:STANDARD
TZOFFSETFROM:+0000
TZOFFSETTO:+0000
TZNAME:UTC
DTSTART:20250101T000000
END:STANDARD
END:VTIMEZONE
BEGIN:VEVENT
DTSTART;TZID=UTC:20250505T180000
DTEND;TZID=UTC:20250505T193000
DTSTAMP:20260424T214516
CREATED:20250507T093152Z
LAST-MODIFIED:20250507T093511Z
UID:987512754-1746468000-1746473400@belgianphysicalsociety.be
SUMMARY:UHasselt Materiomics expert lectures on innovative materials design: Computational Methods
DESCRIPTION:The Master of Materiomics presents:\n5 expert lectures on innovative materials design\nComputational Methods\nPersonal reflections on the past and future of the dialogue between experiment and (ab initio) computation \nby Prof. dr. Stefaan Cottenier (UGent\, Center for molecular modeling) Time: 18h-19h30 (CEST). Online or on campus in auditorium H3 \nAll lectures can be followed online. \nLocation of the lectures: \nHasselt University\, Campus Diepenbeek\, Agoralaan Building D\, 3590 Diepenbeek\, Belgium. Participation is free\, but registration is mandatory via https://forms.gle/VxGQnURjkE7d5xvf8 \nParticipants receive a certificate of attendance. For more information\, please contact materiomics@uhasselt.be \nFlyer Materialize the future 2025
URL:https://belgianphysicalsociety.be/event/uhasselt-materiomics-computational-methods/
LOCATION:UHasselt Campus Diepenbeek\, Agoralaan Building D\, Diepenbeek\, 3590\, Belgium
CATEGORIES:External
END:VEVENT
END:VCALENDAR