BEGIN:VCALENDAR
VERSION:2.0
PRODID:-//Belgian Physical Society - ECPv6.12.0.1//NONSGML v1.0//EN
CALSCALE:GREGORIAN
METHOD:PUBLISH
X-WR-CALNAME:Belgian Physical Society
X-ORIGINAL-URL:https://belgianphysicalsociety.be
X-WR-CALDESC:Events for Belgian Physical Society
REFRESH-INTERVAL;VALUE=DURATION:PT1H
X-Robots-Tag:noindex
X-PUBLISHED-TTL:PT1H
BEGIN:VTIMEZONE
TZID:UTC
BEGIN:STANDARD
TZOFFSETFROM:+0000
TZOFFSETTO:+0000
TZNAME:UTC
DTSTART:20250101T000000
END:STANDARD
END:VTIMEZONE
BEGIN:VEVENT
DTSTART;TZID=UTC:20250219T160000
DTEND;TZID=UTC:20250219T180000
DTSTAMP:20260425T030350
CREATED:20250221T152600Z
LAST-MODIFIED:20250221T152713Z
UID:987512320-1739980800-1739988000@belgianphysicalsociety.be
SUMMARY:Quantum Physics Anniversary
DESCRIPTION:The APS Young Minds in Antwerp are kickstarting the International Year Of Quantum Science And Technology with a very interesting talk!\nThe lecture Young’s Double Slit: From Quantum Foundations to State-of-\nthe-Art Electron Microscopy\, will be given by Francisco Vega (EMAT\, University of Antwerp). Will you join us? Check all the details below.
URL:https://belgianphysicalsociety.be/event/quantum-physics-anniversary/
LOCATION:UAntwerp\, Antwerpen\, 2000\, Belgium
CATEGORIES:Young Minds
ORGANIZER;CN="Antwerp Young Minds":MAILTO:youngminds@uantwerpen.be
END:VEVENT
END:VCALENDAR