BEGIN:VCALENDAR
VERSION:2.0
PRODID:-//Belgian Physical Society - ECPv6.12.0.1//NONSGML v1.0//EN
CALSCALE:GREGORIAN
METHOD:PUBLISH
X-WR-CALNAME:Belgian Physical Society
X-ORIGINAL-URL:https://belgianphysicalsociety.be
X-WR-CALDESC:Events for Belgian Physical Society
REFRESH-INTERVAL;VALUE=DURATION:PT1H
X-Robots-Tag:noindex
X-PUBLISHED-TTL:PT1H
BEGIN:VTIMEZONE
TZID:UTC
BEGIN:STANDARD
TZOFFSETFROM:+0000
TZOFFSETTO:+0000
TZNAME:UTC
DTSTART:20240101T000000
END:STANDARD
END:VTIMEZONE
BEGIN:VEVENT
DTSTART;TZID=UTC:20241210T150000
DTEND;TZID=UTC:20241210T190000
DTSTAMP:20260425T013726
CREATED:20241127T133949Z
LAST-MODIFIED:20241127T133949Z
UID:987511886-1733842800-1733857200@belgianphysicalsociety.be
SUMMARY:Masterbeurs UHasselt
DESCRIPTION:Beste student(e) fysica\, \nWe nodigen je graag uit op de masterbeurs van UHasselt die door zal gaan op dinsdag 10 december van 15u tot 19u. \nKom kennismaken met de vervolgopleiding master in materiomics (www.uhasselt.be/materiomics) op de infomarkt op de Agora op campus Diepenbeek\, waar je gedetailleerde informatie krijgt over het studieprogramma\, de docenten en de vakken\, de bedrijfsstage in het eerste masterjaar\, de specialisatiemogelijkheden en beroepsuitwegen in de fysica. \nGraag nodigen we je ook uit voor de infosessie over materiomics die zal doorgaan van 17u tot 18u. Je kan deze infosessie online volgen of op campus Diepenbeek (Agoralaan\, gebouw D\, 3590 Diepenbeek). Inschrijven hiervoor is verplicht en doe je via https://registraties.uhasselt.be/nl/masterbeurs/10-december-2024. \nVan harte welkom! \nMet vriendelijke groeten \nTeam Materiomics
URL:https://belgianphysicalsociety.be/event/masterbeurs-uhasselt/
LOCATION:UHasselt Campus Diepenbeek\, Agoralaan Building D\, Diepenbeek\, 3590\, Belgium
CATEGORIES:External
END:VEVENT
END:VCALENDAR