BEGIN:VCALENDAR
VERSION:2.0
PRODID:-//Belgian Physical Society - ECPv6.12.0.1//NONSGML v1.0//EN
CALSCALE:GREGORIAN
METHOD:PUBLISH
X-WR-CALNAME:Belgian Physical Society
X-ORIGINAL-URL:https://belgianphysicalsociety.be
X-WR-CALDESC:Events for Belgian Physical Society
REFRESH-INTERVAL;VALUE=DURATION:PT1H
X-Robots-Tag:noindex
X-PUBLISHED-TTL:PT1H
BEGIN:VTIMEZONE
TZID:UTC
BEGIN:STANDARD
TZOFFSETFROM:+0000
TZOFFSETTO:+0000
TZNAME:UTC
DTSTART:20250101T000000
END:STANDARD
END:VTIMEZONE
BEGIN:VEVENT
DTSTART;TZID=UTC:20250804T090000
DTEND;TZID=UTC:20250808T170000
DTSTAMP:20260425T001457
CREATED:20250123T135136Z
LAST-MODIFIED:20250123T135136Z
UID:987512129-1754298000-1754672400@belgianphysicalsociety.be
SUMMARY:KU Leuven Summer of Science
DESCRIPTION:Starting on Monday\, you will dive into your scientific topic of choice under guidance of experienced researchers. In the evenings\, you can unwind with fun activities organized by current KU Leuven students\, and stay overnight in student dorms.  (There is also an option not to stay on-campus during the program.) By the end of the summer school on Friday\, you will be an expert on your topic! \nThis new summer school gives you a perfect opportunity to learn\, sample\, and perform real science as a researcher for a week. This summer school is open to all high school students; its primary audience is Flemish high school students. However\, the courses (and this website) are in English as most of the teachers are researchers of international origin. Teachers who are fluent in Dutch are indicated on the Course page.
URL:https://belgianphysicalsociety.be/event/ku-leuven-summer-of-science-2/
LOCATION:KU Leuven Arenberg Science Campus\, Leuven\, 3000\, Belgium
CATEGORIES:External
END:VEVENT
END:VCALENDAR