BEGIN:VCALENDAR
VERSION:2.0
PRODID:-//Belgian Physical Society - ECPv6.12.0.1//NONSGML v1.0//EN
CALSCALE:GREGORIAN
METHOD:PUBLISH
X-WR-CALNAME:Belgian Physical Society
X-ORIGINAL-URL:https://belgianphysicalsociety.be
X-WR-CALDESC:Events for Belgian Physical Society
REFRESH-INTERVAL;VALUE=DURATION:PT1H
X-Robots-Tag:noindex
X-PUBLISHED-TTL:PT1H
BEGIN:VTIMEZONE
TZID:UTC
BEGIN:STANDARD
TZOFFSETFROM:+0000
TZOFFSETTO:+0000
TZNAME:UTC
DTSTART:20250101T000000
END:STANDARD
END:VTIMEZONE
BEGIN:VEVENT
DTSTART;TZID=UTC:20250309T090000
DTEND;TZID=UTC:20250314T170000
DTSTAMP:20260425T014250
CREATED:20250113T140612Z
LAST-MODIFIED:20250211T124204Z
UID:987512047-1741510800-1741971600@belgianphysicalsociety.be
SUMMARY:DGP 88 Annual Conference and Spring Meeting of the Atomic\, Molecular\, Quantum Optics and Photonics Section (SAMOP)
DESCRIPTION:The Deutsche Physikalische Gesellschaft (DPG) will hold its 88 Annual Conference and the DPG Spring Meeting of the Atomic\, Molecular\, Quantum Optics and Photonics Section (SAMOP) from 9 to 14 March 2025 at the University of Bonn.
URL:https://belgianphysicalsociety.be/event/dgp-88-annual-conference-and-spring-meeting-of-the-atomic-molecular-quantum-optics-and-photonics-section-samop/
LOCATION:University of Bonn\, Bonn\, Germany
CATEGORIES:External
END:VEVENT
END:VCALENDAR