BEGIN:VCALENDAR
VERSION:2.0
PRODID:-//Belgian Physical Society - ECPv6.12.0.1//NONSGML v1.0//EN
CALSCALE:GREGORIAN
METHOD:PUBLISH
X-WR-CALNAME:Belgian Physical Society
X-ORIGINAL-URL:https://belgianphysicalsociety.be
X-WR-CALDESC:Events for Belgian Physical Society
REFRESH-INTERVAL;VALUE=DURATION:PT1H
X-Robots-Tag:noindex
X-PUBLISHED-TTL:PT1H
BEGIN:VTIMEZONE
TZID:UTC
BEGIN:STANDARD
TZOFFSETFROM:+0000
TZOFFSETTO:+0000
TZNAME:UTC
DTSTART:20240101T000000
END:STANDARD
END:VTIMEZONE
BEGIN:VEVENT
DTSTART;TZID=UTC:20241121T160000
DTEND;TZID=UTC:20241121T180000
DTSTAMP:20260425T001403
CREATED:20241114T112034Z
LAST-MODIFIED:20241114T112149Z
UID:987511865-1732204800-1732212000@belgianphysicalsociety.be
SUMMARY:Departmental colloquium Antwerp Paul Midgley
DESCRIPTION:The first departmental colloquium of the new academic year\, organised by the APS Young Minds in Antwerp. We are honored to welcome Prof. Dr. Paul Midgley (University of Cambridge) to EMAT (UAntwerp – Department of Physics\, University of Antwerp). With over 30 years of experience in electron microscopy\, Prof. Dr. Midgley will present a lecture titled\,  “30 years of electron diffraction – a personal journey through reciprocal-space”. He will delve into various diffraction techniques and recent advancements in improving and expanding these setups. \nAs usual\, the AYM will host a reception following the lecture\, offering an opportunity to continue discussions over snacks and drinks. \nThe exact venue is CGB GT 105
URL:https://belgianphysicalsociety.be/event/departmental-colloquium-antwerp-paul-midgley/
LOCATION:UAntwerp\, Antwerpen\, 2000\, Belgium
CATEGORIES:Young Minds
ORGANIZER;CN="Antwerp Young Minds":MAILTO:youngminds@uantwerpen.be
END:VEVENT
END:VCALENDAR