BEGIN:VCALENDAR
VERSION:2.0
PRODID:-//Belgian Physical Society - ECPv6.12.0.1//NONSGML v1.0//EN
CALSCALE:GREGORIAN
METHOD:PUBLISH
X-WR-CALNAME:Belgian Physical Society
X-ORIGINAL-URL:https://belgianphysicalsociety.be
X-WR-CALDESC:Events for Belgian Physical Society
REFRESH-INTERVAL;VALUE=DURATION:PT1H
X-Robots-Tag:noindex
X-PUBLISHED-TTL:PT1H
BEGIN:VTIMEZONE
TZID:UTC
BEGIN:STANDARD
TZOFFSETFROM:+0000
TZOFFSETTO:+0000
TZNAME:UTC
DTSTART:20210101T000000
END:STANDARD
END:VTIMEZONE
BEGIN:VEVENT
DTSTART;TZID=UTC:20211027T160000
DTEND;TZID=UTC:20211027T173000
DTSTAMP:20260419T204147
CREATED:20241017T194804Z
LAST-MODIFIED:20241017T194804Z
UID:987511732-1635350400-1635355800@belgianphysicalsociety.be
SUMMARY:BPS webinar Nuclear Fusion Research
DESCRIPTION:Interial fusion research: physics\, status and latest results \nDr. Vladimir Tikhonchuk\, Centre Lasers Intenses et Applications\, Université de Bordeaux\, France
URL:https://belgianphysicalsociety.be/event/bps-webinar-nuclear-fusion-research-5/
LOCATION:Online
CATEGORIES:BPS,Webinar
END:VEVENT
END:VCALENDAR