BEGIN:VCALENDAR
VERSION:2.0
PRODID:-//Belgian Physical Society - ECPv6.12.0.1//NONSGML v1.0//EN
CALSCALE:GREGORIAN
METHOD:PUBLISH
X-WR-CALNAME:Belgian Physical Society
X-ORIGINAL-URL:https://belgianphysicalsociety.be
X-WR-CALDESC:Events for Belgian Physical Society
REFRESH-INTERVAL;VALUE=DURATION:PT1H
X-Robots-Tag:noindex
X-PUBLISHED-TTL:PT1H
BEGIN:VTIMEZONE
TZID:UTC
BEGIN:STANDARD
TZOFFSETFROM:+0000
TZOFFSETTO:+0000
TZNAME:UTC
DTSTART:20240101T000000
END:STANDARD
END:VTIMEZONE
BEGIN:VEVENT
DTSTART;VALUE=DATE:20240919
DTEND;VALUE=DATE:20240921
DTSTAMP:20260425T013628
CREATED:20240902T143533Z
LAST-MODIFIED:20240918T081745Z
UID:987511191-1726704000-1726876799@belgianphysicalsociety.be
SUMMARY:Belgian Photonics Online Meetup
DESCRIPTION:The goal of bePOM is to strengthen the Belgian photonics network\, associating research groups from all the universities in Belgium working on fundamental and applied topics in photonics. It will give the opportunity to early career and established researchers to (re-)discover and learn about the ongoing research topics in the Belgian cities next-door\, without moving from their home universities. \nA 2-day free event | One day online – One day hybrid online/on site @VUB \n\n	\n	\n	\n	\n    \n\n	    \n    \n        Registrations are closed for this event.
URL:https://belgianphysicalsociety.be/event/bepom/
LOCATION:UResidence\, Bd Général Jacques\, 271\, Ixelles\, 1050\, Belgium
CATEGORIES:Conference,External
END:VEVENT
END:VCALENDAR